BEGIN:VCALENDAR
VERSION:2.0
PRODID:spatie/icalendar-generator
DESCRIPTION:Events from Julian Teachings
X-WR-CALDESC:Events from Julian Teachings
REFRESH-INTERVAL;VALUE=DURATION:PT1440M
X-PUBLISHED-TTL:PT1440M
BEGIN:VTIMEZONE
TZID:America/Los_Angeles
BEGIN:STANDARD
DTSTART:20251102T020000Z
TZOFFSETFROM:-0700
TZOFFSETTO:-0800
END:STANDARD
BEGIN:DAYLIGHT
DTSTART:20260308T020000Z
TZOFFSETFROM:-0800
TZOFFSETTO:-0700
END:DAYLIGHT
BEGIN:STANDARD
DTSTART:20261101T020000Z
TZOFFSETFROM:-0700
TZOFFSETTO:-0800
END:STANDARD
END:VTIMEZONE
BEGIN:VTIMEZONE
TZID:UTC
BEGIN:STANDARD
DTSTART:20250727T173841Z
TZOFFSETFROM:+0000
TZOFFSETTO:+0000
END:STANDARD
END:VTIMEZONE
BEGIN:VEVENT
UID:416-7
DTSTAMP:20260423T173841Z
SUMMARY:Tipping Point Discussion Group
LOCATION:
ORGANIZER;CN=Andrea Smith:MAILTO:andreasmith@julianteachings.com
RRULE:FREQ=MONTHLY;BYDAY=3SA;UNTIL=20261220T000000Z
DTSTART;TZID=America/Los_Angeles:20260516T090000
DTEND;TZID=America/Los_Angeles:20260516T100000
X-ALT-DESC;FMTTYPE=TEXT/HTML:Facilitated by Andrea Smith Our reality awaits
  a tipping point. We have the power and responsibility to create a turning
  point of transformation\, enabling humanity's transition to the next leve
 l of evolvement. Each of us brings our unique qualities into the world.  
 As we express these unique qualities toward positive transformation\, what
  seem to be&amp;hellip\;
CATEGORIES:General
URL;VALUE=URI:https://julianteachings.com/mc-events/tipping-point-discussio
 n-group/?mc_id=416
METHOD:PUBLISH
END:VEVENT
END:VCALENDAR