BEGIN:VCALENDAR
VERSION:2.0
PRODID:spatie/icalendar-generator
DESCRIPTION:Events from Julian Teachings
X-WR-CALDESC:Events from Julian Teachings
REFRESH-INTERVAL;VALUE=DURATION:PT1440M
X-PUBLISHED-TTL:PT1440M
BEGIN:VTIMEZONE
TZID:America/Los_Angeles
BEGIN:STANDARD
DTSTART:20251102T020000Z
TZOFFSETFROM:-0700
TZOFFSETTO:-0800
END:STANDARD
BEGIN:DAYLIGHT
DTSTART:20260308T020000Z
TZOFFSETFROM:-0800
TZOFFSETTO:-0700
END:DAYLIGHT
END:VTIMEZONE
BEGIN:VTIMEZONE
TZID:UTC
BEGIN:STANDARD
DTSTART:20250727T161957Z
TZOFFSETFROM:+0000
TZOFFSETTO:+0000
END:STANDARD
END:VTIMEZONE
BEGIN:VEVENT
UID:311-3
DTSTAMP:20260423T161957Z
SUMMARY:Sunday Morning Healing Group
LOCATION:
ORGANIZER;CN=Saul Srour:MAILTO:s77aul@yahoo.com
RRULE:FREQ=WEEKLY;UNTIL=20270103T000000Z
DTSTART;TZID=America/Los_Angeles:20260419T071500
DTEND;TZID=America/Los_Angeles:20260419T090000
X-ALT-DESC;FMTTYPE=TEXT/HTML:Zoom has opened the doors of Marion Bauer’s 
 home to a much larger group of participants—welcoming generous hearts of
  love\, light\, and healing—who continue Julian’s mission to enrich on
 e another in this powerful energy and channel it into the world. In this g
 roup\, we are empowered by one another\, Julian’s energy\, and all those
  in&amp;hellip\;
CATEGORIES:General
URL;VALUE=URI:https://julianteachings.com/mc-events/sunday-morning-healing-
 group/?mc_id=311
METHOD:PUBLISH
END:VEVENT
END:VCALENDAR